BEGIN:VCALENDAR
VERSION:2.0
PRODID:http://www.kufer.de/kuferweb / DE
METHOD:PUBLISH
CALSCALE:GREGORIAN
X-WR-TIMEZONE:Europe/Berlin
BEGIN:VTIMEZONE
TZID:Europe/Berlin
X-LIC-LOCATION:Europe/Berlin
BEGIN:DAYLIGHT
TZOFFSETFROM:+0100
TZOFFSETTO:+0200
TZNAME:CEST
DTSTART;TZID=Europe/Berlin:19700329T020000
RRULE:FREQ=YEARLY;INTERVAL=1;BYDAY=-1SU;BYMONTH=3
END:DAYLIGHT
BEGIN:STANDARD
TZOFFSETFROM:+0200
TZOFFSETTO:+0100
TZNAME:CET
DTSTART;TZID=Europe/Berlin:19701025T030000
RRULE:FREQ=YEARLY;INTERVAL=1;BYDAY=-1SU;BYMONTH=10
END:STANDARD
END:VTIMEZONE
BEGIN:VEVENT
DTSTAMP:20260421T104801
DTSTART;TZID=Europe/Berlin:20260116T153000
DTEND;TZID=Europe/Berlin:20260116T174500
UID:D-AD1003-20260116T153000@EBWDUISBURG
SUMMARY:Bewegungsfreu(n)de - offene Bewegungsbaustelle für Kinder von 1-3 Jahren mit Eltern (D-AD1003) 
LOCATION:Haus der Familie; Gymnastikraum, Hinter der Kirche 34, 47058 Duisburg
END:VEVENT
BEGIN:VEVENT
DTSTAMP:20260421T104801
DTSTART;TZID=Europe/Berlin:20260123T153000
DTEND;TZID=Europe/Berlin:20260123T174500
UID:D-AD1003-20260123T153000@EBWDUISBURG
SUMMARY:Bewegungsfreu(n)de - offene Bewegungsbaustelle für Kinder von 1-3 Jahren mit Eltern (D-AD1003) 
LOCATION:Haus der Familie; Gymnastikraum, Hinter der Kirche 34, 47058 Duisburg
END:VEVENT
BEGIN:VEVENT
DTSTAMP:20260421T104801
DTSTART;TZID=Europe/Berlin:20260130T153000
DTEND;TZID=Europe/Berlin:20260130T174500
UID:D-AD1003-20260130T153000@EBWDUISBURG
SUMMARY:Bewegungsfreu(n)de - offene Bewegungsbaustelle für Kinder von 1-3 Jahren mit Eltern (D-AD1003) 
LOCATION:Haus der Familie; Gymnastikraum, Hinter der Kirche 34, 47058 Duisburg
END:VEVENT
BEGIN:VEVENT
DTSTAMP:20260421T104801
DTSTART;TZID=Europe/Berlin:20260213T153000
DTEND;TZID=Europe/Berlin:20260213T174500
UID:D-AD1003-20260213T153000@EBWDUISBURG
SUMMARY:Bewegungsfreu(n)de - offene Bewegungsbaustelle für Kinder von 1-3 Jahren mit Eltern (D-AD1003) 
LOCATION:Haus der Familie; Gymnastikraum, Hinter der Kirche 34, 47058 Duisburg
END:VEVENT
BEGIN:VEVENT
DTSTAMP:20260421T104801
DTSTART;TZID=Europe/Berlin:20260220T153000
DTEND;TZID=Europe/Berlin:20260220T174500
UID:D-AD1003-20260220T153000@EBWDUISBURG
SUMMARY:Bewegungsfreu(n)de - offene Bewegungsbaustelle für Kinder von 1-3 Jahren mit Eltern (D-AD1003) 
LOCATION:Haus der Familie; Gymnastikraum, Hinter der Kirche 34, 47058 Duisburg
END:VEVENT
BEGIN:VEVENT
DTSTAMP:20260421T104801
DTSTART;TZID=Europe/Berlin:20260227T153000
DTEND;TZID=Europe/Berlin:20260227T174500
UID:D-AD1003-20260227T153000@EBWDUISBURG
SUMMARY:Bewegungsfreu(n)de - offene Bewegungsbaustelle für Kinder von 1-3 Jahren mit Eltern (D-AD1003) 
LOCATION:Haus der Familie; Gymnastikraum, Hinter der Kirche 34, 47058 Duisburg
END:VEVENT
BEGIN:VEVENT
DTSTAMP:20260421T104801
DTSTART;TZID=Europe/Berlin:20260306T153000
DTEND;TZID=Europe/Berlin:20260306T174500
UID:D-AD1003-20260306T153000@EBWDUISBURG
SUMMARY:Bewegungsfreu(n)de - offene Bewegungsbaustelle für Kinder von 1-3 Jahren mit Eltern (D-AD1003) 
LOCATION:Haus der Familie; Gymnastikraum, Hinter der Kirche 34, 47058 Duisburg
END:VEVENT
BEGIN:VEVENT
DTSTAMP:20260421T104801
DTSTART;TZID=Europe/Berlin:20260313T153000
DTEND;TZID=Europe/Berlin:20260313T174500
UID:D-AD1003-20260313T153000@EBWDUISBURG
SUMMARY:Bewegungsfreu(n)de - offene Bewegungsbaustelle für Kinder von 1-3 Jahren mit Eltern (D-AD1003) 
LOCATION:Haus der Familie; Gymnastikraum, Hinter der Kirche 34, 47058 Duisburg
END:VEVENT
BEGIN:VEVENT
DTSTAMP:20260421T104801
DTSTART;TZID=Europe/Berlin:20260320T153000
DTEND;TZID=Europe/Berlin:20260320T174500
UID:D-AD1003-20260320T153000@EBWDUISBURG
SUMMARY:Bewegungsfreu(n)de - offene Bewegungsbaustelle für Kinder von 1-3 Jahren mit Eltern (D-AD1003) 
LOCATION:Haus der Familie; Gymnastikraum, Hinter der Kirche 34, 47058 Duisburg
END:VEVENT
BEGIN:VEVENT
DTSTAMP:20260421T104801
DTSTART;TZID=Europe/Berlin:20260327T153000
DTEND;TZID=Europe/Berlin:20260327T174500
UID:D-AD1003-20260327T153000@EBWDUISBURG
SUMMARY:Bewegungsfreu(n)de - offene Bewegungsbaustelle für Kinder von 1-3 Jahren mit Eltern (D-AD1003) 
LOCATION:Haus der Familie; Gymnastikraum, Hinter der Kirche 34, 47058 Duisburg
END:VEVENT
BEGIN:VEVENT
DTSTAMP:20260421T104801
DTSTART;TZID=Europe/Berlin:20260417T153000
DTEND;TZID=Europe/Berlin:20260417T174500
UID:D-AD1003-20260417T153000@EBWDUISBURG
SUMMARY:Bewegungsfreu(n)de - offene Bewegungsbaustelle für Kinder von 1-3 Jahren mit Eltern (D-AD1003) 
LOCATION:Haus der Familie; Gymnastikraum, Hinter der Kirche 34, 47058 Duisburg
END:VEVENT
BEGIN:VEVENT
DTSTAMP:20260421T104801
DTSTART;TZID=Europe/Berlin:20260424T153000
DTEND;TZID=Europe/Berlin:20260424T174500
UID:D-AD1003-20260424T153000@EBWDUISBURG
SUMMARY:Bewegungsfreu(n)de - offene Bewegungsbaustelle für Kinder von 1-3 Jahren mit Eltern (D-AD1003) 
LOCATION:Haus der Familie; Gymnastikraum, Hinter der Kirche 34, 47058 Duisburg
END:VEVENT
BEGIN:VEVENT
DTSTAMP:20260421T104801
DTSTART;TZID=Europe/Berlin:20260508T153000
DTEND;TZID=Europe/Berlin:20260508T174500
UID:D-AD1003-20260508T153000@EBWDUISBURG
SUMMARY:Bewegungsfreu(n)de - offene Bewegungsbaustelle für Kinder von 1-3 Jahren mit Eltern (D-AD1003) 
LOCATION:Haus der Familie; Gymnastikraum, Hinter der Kirche 34, 47058 Duisburg
END:VEVENT
BEGIN:VEVENT
DTSTAMP:20260421T104801
DTSTART;TZID=Europe/Berlin:20260515T153000
DTEND;TZID=Europe/Berlin:20260515T174500
UID:D-AD1003-20260515T153000@EBWDUISBURG
SUMMARY:Bewegungsfreu(n)de - offene Bewegungsbaustelle für Kinder von 1-3 Jahren mit Eltern (D-AD1003) 
LOCATION:Haus der Familie; Gymnastikraum, Hinter der Kirche 34, 47058 Duisburg
END:VEVENT
BEGIN:VEVENT
DTSTAMP:20260421T104801
DTSTART;TZID=Europe/Berlin:20260522T153000
DTEND;TZID=Europe/Berlin:20260522T174500
UID:D-AD1003-20260522T153000@EBWDUISBURG
SUMMARY:Bewegungsfreu(n)de - offene Bewegungsbaustelle für Kinder von 1-3 Jahren mit Eltern (D-AD1003) 
LOCATION:Haus der Familie; Gymnastikraum, Hinter der Kirche 34, 47058 Duisburg
END:VEVENT
BEGIN:VEVENT
DTSTAMP:20260421T104801
DTSTART;TZID=Europe/Berlin:20260529T153000
DTEND;TZID=Europe/Berlin:20260529T174500
UID:D-AD1003-20260529T153000@EBWDUISBURG
SUMMARY:Bewegungsfreu(n)de - offene Bewegungsbaustelle für Kinder von 1-3 Jahren mit Eltern (D-AD1003) 
LOCATION:Haus der Familie; Gymnastikraum, Hinter der Kirche 34, 47058 Duisburg
END:VEVENT
BEGIN:VEVENT
DTSTAMP:20260421T104801
DTSTART;TZID=Europe/Berlin:20260605T153000
DTEND;TZID=Europe/Berlin:20260605T174500
UID:D-AD1003-20260605T153000@EBWDUISBURG
SUMMARY:Bewegungsfreu(n)de - offene Bewegungsbaustelle für Kinder von 1-3 Jahren mit Eltern (D-AD1003) 
LOCATION:Haus der Familie; Gymnastikraum, Hinter der Kirche 34, 47058 Duisburg
END:VEVENT
BEGIN:VEVENT
DTSTAMP:20260421T104801
DTSTART;TZID=Europe/Berlin:20260619T153000
DTEND;TZID=Europe/Berlin:20260619T174500
UID:D-AD1003-20260619T153000@EBWDUISBURG
SUMMARY:Bewegungsfreu(n)de - offene Bewegungsbaustelle für Kinder von 1-3 Jahren mit Eltern (D-AD1003) 
LOCATION:Haus der Familie; Gymnastikraum, Hinter der Kirche 34, 47058 Duisburg
END:VEVENT
BEGIN:VEVENT
DTSTAMP:20260421T104801
DTSTART;TZID=Europe/Berlin:20260626T153000
DTEND;TZID=Europe/Berlin:20260626T174500
UID:D-AD1003-20260626T153000@EBWDUISBURG
SUMMARY:Bewegungsfreu(n)de - offene Bewegungsbaustelle für Kinder von 1-3 Jahren mit Eltern (D-AD1003) 
LOCATION:Haus der Familie; Gymnastikraum, Hinter der Kirche 34, 47058 Duisburg
END:VEVENT
BEGIN:VEVENT
DTSTAMP:20260421T104801
DTSTART;TZID=Europe/Berlin:20260703T153000
DTEND;TZID=Europe/Berlin:20260703T174500
UID:D-AD1003-20260703T153000@EBWDUISBURG
SUMMARY:Bewegungsfreu(n)de - offene Bewegungsbaustelle für Kinder von 1-3 Jahren mit Eltern (D-AD1003) 
LOCATION:Haus der Familie; Gymnastikraum, Hinter der Kirche 34, 47058 Duisburg
END:VEVENT
BEGIN:VEVENT
DTSTAMP:20260421T104801
DTSTART;TZID=Europe/Berlin:20260710T153000
DTEND;TZID=Europe/Berlin:20260710T174500
UID:D-AD1003-20260710T153000@EBWDUISBURG
SUMMARY:Bewegungsfreu(n)de - offene Bewegungsbaustelle für Kinder von 1-3 Jahren mit Eltern (D-AD1003) 
LOCATION:Haus der Familie; Gymnastikraum, Hinter der Kirche 34, 47058 Duisburg
END:VEVENT
BEGIN:VEVENT
DTSTAMP:20260421T104801
DTSTART;TZID=Europe/Berlin:20260717T153000
DTEND;TZID=Europe/Berlin:20260717T174500
UID:D-AD1003-20260717T153000@EBWDUISBURG
SUMMARY:Bewegungsfreu(n)de - offene Bewegungsbaustelle für Kinder von 1-3 Jahren mit Eltern (D-AD1003) 
LOCATION:Haus der Familie; Gymnastikraum, Hinter der Kirche 34, 47058 Duisburg
END:VEVENT
END:VCALENDAR