BEGIN:VCALENDAR
VERSION:2.0
PRODID:http://www.kufer.de/kuferweb / DE
METHOD:PUBLISH
CALSCALE:GREGORIAN
X-WR-TIMEZONE:Europe/Berlin
BEGIN:VTIMEZONE
TZID:Europe/Berlin
X-LIC-LOCATION:Europe/Berlin
BEGIN:DAYLIGHT
TZOFFSETFROM:+0100
TZOFFSETTO:+0200
TZNAME:CEST
DTSTART;TZID=Europe/Berlin:19700329T020000
RRULE:FREQ=YEARLY;INTERVAL=1;BYDAY=-1SU;BYMONTH=3
END:DAYLIGHT
BEGIN:STANDARD
TZOFFSETFROM:+0200
TZOFFSETTO:+0100
TZNAME:CET
DTSTART;TZID=Europe/Berlin:19701025T030000
RRULE:FREQ=YEARLY;INTERVAL=1;BYDAY=-1SU;BYMONTH=10
END:STANDARD
END:VTIMEZONE
BEGIN:VEVENT
DTSTAMP:20260421T121254
DTSTART;TZID=Europe/Berlin:20260213T170000
DTEND;TZID=Europe/Berlin:20260213T200000
UID:D-6201-20260213T170000@EBWDUISBURG
SUMMARY:Fastenwoche am Wohnort (D-6201) 
LOCATION:Haus der Familie; Raum O4, Hinter der Kirche 34, 47058 Duisburg
END:VEVENT
BEGIN:VEVENT
DTSTAMP:20260421T121254
DTSTART;TZID=Europe/Berlin:20260307T100000
DTEND;TZID=Europe/Berlin:20260307T134500
UID:D-6201-20260307T100000@EBWDUISBURG
SUMMARY:Fastenwoche am Wohnort (D-6201) 
LOCATION:Haus der Familie; Lehrküche, Hinter der Kirche 34, 47058 Duisburg
END:VEVENT
BEGIN:VEVENT
DTSTAMP:20260421T121254
DTSTART;TZID=Europe/Berlin:20260308T120000
DTEND;TZID=Europe/Berlin:20260308T160000
UID:D-6201-20260308T120000@EBWDUISBURG
SUMMARY:Fastenwoche am Wohnort (D-6201) 
LOCATION:Ausser Haus, , 
END:VEVENT
BEGIN:VEVENT
DTSTAMP:20260421T121254
DTSTART;TZID=Europe/Berlin:20260309T180000
DTEND;TZID=Europe/Berlin:20260309T193000
UID:D-6201-20260309T180000@EBWDUISBURG
SUMMARY:Fastenwoche am Wohnort (D-6201) 
LOCATION:Haus der Familie; U37, Hinter der Kirche 34, 47058 Duisburg
END:VEVENT
BEGIN:VEVENT
DTSTAMP:20260421T121254
DTSTART;TZID=Europe/Berlin:20260310T180000
DTEND;TZID=Europe/Berlin:20260310T193000
UID:D-6201-20260310T180000@EBWDUISBURG
SUMMARY:Fastenwoche am Wohnort (D-6201) 
LOCATION:Haus der Familie; E37, Hinter der Kirche 34, 47058 Duisburg
END:VEVENT
BEGIN:VEVENT
DTSTAMP:20260421T121254
DTSTART;TZID=Europe/Berlin:20260311T180000
DTEND;TZID=Europe/Berlin:20260311T193000
UID:D-6201-20260311T180000@EBWDUISBURG
SUMMARY:Fastenwoche am Wohnort (D-6201) 
LOCATION:Haus der Familie; E37, Hinter der Kirche 34, 47058 Duisburg
END:VEVENT
BEGIN:VEVENT
DTSTAMP:20260421T121254
DTSTART;TZID=Europe/Berlin:20260312T170000
DTEND;TZID=Europe/Berlin:20260312T200000
UID:D-6201-20260312T170000@EBWDUISBURG
SUMMARY:Fastenwoche am Wohnort (D-6201) 
LOCATION:Haus der Familie; Lehrküche, Hinter der Kirche 34, 47058 Duisburg
END:VEVENT
BEGIN:VEVENT
DTSTAMP:20260421T121254
DTSTART;TZID=Europe/Berlin:20260314T100000
DTEND;TZID=Europe/Berlin:20260314T130000
UID:D-6201-20260314T100000@EBWDUISBURG
SUMMARY:Fastenwoche am Wohnort (D-6201) 
LOCATION:Haus der Familie; Lehrküche, Hinter der Kirche 34, 47058 Duisburg
END:VEVENT
END:VCALENDAR