BEGIN:VCALENDAR
VERSION:2.0
PRODID:http://www.kufer.de/kuferweb / DE
METHOD:PUBLISH
CALSCALE:GREGORIAN
X-WR-TIMEZONE:Europe/Berlin
BEGIN:VTIMEZONE
TZID:Europe/Berlin
X-LIC-LOCATION:Europe/Berlin
BEGIN:DAYLIGHT
TZOFFSETFROM:+0100
TZOFFSETTO:+0200
TZNAME:CEST
DTSTART;TZID=Europe/Berlin:19700329T020000
RRULE:FREQ=YEARLY;INTERVAL=1;BYDAY=-1SU;BYMONTH=3
END:DAYLIGHT
BEGIN:STANDARD
TZOFFSETFROM:+0200
TZOFFSETTO:+0100
TZNAME:CET
DTSTART;TZID=Europe/Berlin:19701025T030000
RRULE:FREQ=YEARLY;INTERVAL=1;BYDAY=-1SU;BYMONTH=10
END:STANDARD
END:VTIMEZONE
BEGIN:VEVENT
DTSTAMP:20260423T193236
DTSTART;TZID=Europe/Berlin:20260422T183500
DTEND;TZID=Europe/Berlin:20260422T200500
UID:D-3310-20260422T183500@EBWDUISBURG
SUMMARY:Italienisch Konversationskurs Niveau B1 (D-3310) 
LOCATION:Haus der Familie; Raum O4, Hinter der Kirche 34, 47058 Duisburg
END:VEVENT
BEGIN:VEVENT
DTSTAMP:20260423T193236
DTSTART;TZID=Europe/Berlin:20260429T183500
DTEND;TZID=Europe/Berlin:20260429T200500
UID:D-3310-20260429T183500@EBWDUISBURG
SUMMARY:Italienisch Konversationskurs Niveau B1 (D-3310) 
LOCATION:Haus der Familie; Raum O4, Hinter der Kirche 34, 47058 Duisburg
END:VEVENT
BEGIN:VEVENT
DTSTAMP:20260423T193236
DTSTART;TZID=Europe/Berlin:20260506T183500
DTEND;TZID=Europe/Berlin:20260506T200500
UID:D-3310-20260506T183500@EBWDUISBURG
SUMMARY:Italienisch Konversationskurs Niveau B1 (D-3310) 
LOCATION:Haus der Familie; Raum O4, Hinter der Kirche 34, 47058 Duisburg
END:VEVENT
BEGIN:VEVENT
DTSTAMP:20260423T193236
DTSTART;TZID=Europe/Berlin:20260513T183500
DTEND;TZID=Europe/Berlin:20260513T200500
UID:D-3310-20260513T183500@EBWDUISBURG
SUMMARY:Italienisch Konversationskurs Niveau B1 (D-3310) 
LOCATION:Haus der Familie; Raum O1, Hinter der Kirche 34, 47058 Duisburg
END:VEVENT
BEGIN:VEVENT
DTSTAMP:20260423T193236
DTSTART;TZID=Europe/Berlin:20260520T183500
DTEND;TZID=Europe/Berlin:20260520T200500
UID:D-3310-20260520T183500@EBWDUISBURG
SUMMARY:Italienisch Konversationskurs Niveau B1 (D-3310) 
LOCATION:Haus der Familie; Raum O4, Hinter der Kirche 34, 47058 Duisburg
END:VEVENT
BEGIN:VEVENT
DTSTAMP:20260423T193236
DTSTART;TZID=Europe/Berlin:20260527T183500
DTEND;TZID=Europe/Berlin:20260527T200500
UID:D-3310-20260527T183500@EBWDUISBURG
SUMMARY:Italienisch Konversationskurs Niveau B1 (D-3310) 
LOCATION:Haus der Familie; Raum O4, Hinter der Kirche 34, 47058 Duisburg
END:VEVENT
BEGIN:VEVENT
DTSTAMP:20260423T193236
DTSTART;TZID=Europe/Berlin:20260603T183500
DTEND;TZID=Europe/Berlin:20260603T200500
UID:D-3310-20260603T183500@EBWDUISBURG
SUMMARY:Italienisch Konversationskurs Niveau B1 (D-3310) 
LOCATION:Haus der Familie; Raum O4, Hinter der Kirche 34, 47058 Duisburg
END:VEVENT
BEGIN:VEVENT
DTSTAMP:20260423T193236
DTSTART;TZID=Europe/Berlin:20260610T183500
DTEND;TZID=Europe/Berlin:20260610T200500
UID:D-3310-20260610T183500@EBWDUISBURG
SUMMARY:Italienisch Konversationskurs Niveau B1 (D-3310) 
LOCATION:Haus der Familie; Raum O4, Hinter der Kirche 34, 47058 Duisburg
END:VEVENT
BEGIN:VEVENT
DTSTAMP:20260423T193236
DTSTART;TZID=Europe/Berlin:20260617T183500
DTEND;TZID=Europe/Berlin:20260617T200500
UID:D-3310-20260617T183500@EBWDUISBURG
SUMMARY:Italienisch Konversationskurs Niveau B1 (D-3310) 
LOCATION:Haus der Familie; Raum O4, Hinter der Kirche 34, 47058 Duisburg
END:VEVENT
END:VCALENDAR