BEGIN:VCALENDAR
VERSION:2.0
PRODID:http://www.kufer.de/kuferweb / DE
METHOD:PUBLISH
CALSCALE:GREGORIAN
X-WR-TIMEZONE:Europe/Berlin
BEGIN:VTIMEZONE
TZID:Europe/Berlin
X-LIC-LOCATION:Europe/Berlin
BEGIN:DAYLIGHT
TZOFFSETFROM:+0100
TZOFFSETTO:+0200
TZNAME:CEST
DTSTART;TZID=Europe/Berlin:19700329T020000
RRULE:FREQ=YEARLY;INTERVAL=1;BYDAY=-1SU;BYMONTH=3
END:DAYLIGHT
BEGIN:STANDARD
TZOFFSETFROM:+0200
TZOFFSETTO:+0100
TZNAME:CET
DTSTART;TZID=Europe/Berlin:19701025T030000
RRULE:FREQ=YEARLY;INTERVAL=1;BYDAY=-1SU;BYMONTH=10
END:STANDARD
END:VTIMEZONE
BEGIN:VEVENT
DTSTAMP:20260421T121304
DTSTART;TZID=Europe/Berlin:20260218T100000
DTEND;TZID=Europe/Berlin:20260218T113000
UID:D-1402-20260218T100000@EBWDUISBURG
SUMMARY:Waldwichtelchen für Kinder von 1,5 bis 3 Jahren mit Eltern (D-1402) 
LOCATION:Nachtigallental; Duisburger Stadtwald, , 47057 Duisburg
END:VEVENT
BEGIN:VEVENT
DTSTAMP:20260421T121304
DTSTART;TZID=Europe/Berlin:20260225T100000
DTEND;TZID=Europe/Berlin:20260225T113000
UID:D-1402-20260225T100000@EBWDUISBURG
SUMMARY:Waldwichtelchen für Kinder von 1,5 bis 3 Jahren mit Eltern (D-1402) 
LOCATION:Nachtigallental; Duisburger Stadtwald, , 47057 Duisburg
END:VEVENT
BEGIN:VEVENT
DTSTAMP:20260421T121304
DTSTART;TZID=Europe/Berlin:20260304T100000
DTEND;TZID=Europe/Berlin:20260304T113000
UID:D-1402-20260304T100000@EBWDUISBURG
SUMMARY:Waldwichtelchen für Kinder von 1,5 bis 3 Jahren mit Eltern (D-1402) 
LOCATION:Nachtigallental; Duisburger Stadtwald, , 47057 Duisburg
END:VEVENT
BEGIN:VEVENT
DTSTAMP:20260421T121304
DTSTART;TZID=Europe/Berlin:20260311T100000
DTEND;TZID=Europe/Berlin:20260311T113000
UID:D-1402-20260311T100000@EBWDUISBURG
SUMMARY:Waldwichtelchen für Kinder von 1,5 bis 3 Jahren mit Eltern (D-1402) 
LOCATION:Nachtigallental; Duisburger Stadtwald, , 47057 Duisburg
END:VEVENT
BEGIN:VEVENT
DTSTAMP:20260421T121304
DTSTART;TZID=Europe/Berlin:20260318T100000
DTEND;TZID=Europe/Berlin:20260318T113000
UID:D-1402-20260318T100000@EBWDUISBURG
SUMMARY:Waldwichtelchen für Kinder von 1,5 bis 3 Jahren mit Eltern (D-1402) 
LOCATION:Nachtigallental; Duisburger Stadtwald, , 47057 Duisburg
END:VEVENT
BEGIN:VEVENT
DTSTAMP:20260421T121304
DTSTART;TZID=Europe/Berlin:20260325T100000
DTEND;TZID=Europe/Berlin:20260325T113000
UID:D-1402-20260325T100000@EBWDUISBURG
SUMMARY:Waldwichtelchen für Kinder von 1,5 bis 3 Jahren mit Eltern (D-1402) 
LOCATION:Nachtigallental; Duisburger Stadtwald, , 47057 Duisburg
END:VEVENT
END:VCALENDAR