BEGIN:VCALENDAR
VERSION:2.0
PRODID:http://www.kufer.de/kuferweb / DE
METHOD:PUBLISH
CALSCALE:GREGORIAN
X-WR-TIMEZONE:Europe/Berlin
BEGIN:VTIMEZONE
TZID:Europe/Berlin
X-LIC-LOCATION:Europe/Berlin
BEGIN:DAYLIGHT
TZOFFSETFROM:+0100
TZOFFSETTO:+0200
TZNAME:CEST
DTSTART;TZID=Europe/Berlin:19700329T020000
RRULE:FREQ=YEARLY;INTERVAL=1;BYDAY=-1SU;BYMONTH=3
END:DAYLIGHT
BEGIN:STANDARD
TZOFFSETFROM:+0200
TZOFFSETTO:+0100
TZNAME:CET
DTSTART;TZID=Europe/Berlin:19701025T030000
RRULE:FREQ=YEARLY;INTERVAL=1;BYDAY=-1SU;BYMONTH=10
END:STANDARD
END:VTIMEZONE
BEGIN:VEVENT
DTSTAMP:20260421T121300
DTSTART;TZID=Europe/Berlin:20260116T110000
DTEND;TZID=Europe/Berlin:20260116T120000
UID:D-1208-20260116T110000@EBWDUISBURG
SUMMARY:Toben, Klettern, Singen  für Kinder von 1-3 Jahren mit Eltern (D-1208) 
LOCATION:Haus der Familie; Gymnastikraum, Hinter der Kirche 34, 47058 Duisburg
END:VEVENT
BEGIN:VEVENT
DTSTAMP:20260421T121300
DTSTART;TZID=Europe/Berlin:20260123T110000
DTEND;TZID=Europe/Berlin:20260123T120000
UID:D-1208-20260123T110000@EBWDUISBURG
SUMMARY:Toben, Klettern, Singen  für Kinder von 1-3 Jahren mit Eltern (D-1208) 
LOCATION:Haus der Familie; Gymnastikraum, Hinter der Kirche 34, 47058 Duisburg
END:VEVENT
BEGIN:VEVENT
DTSTAMP:20260421T121300
DTSTART;TZID=Europe/Berlin:20260206T110000
DTEND;TZID=Europe/Berlin:20260206T120000
UID:D-1208-20260206T110000@EBWDUISBURG
SUMMARY:Toben, Klettern, Singen  für Kinder von 1-3 Jahren mit Eltern (D-1208) 
LOCATION:Haus der Familie; Gymnastikraum, Hinter der Kirche 34, 47058 Duisburg
END:VEVENT
BEGIN:VEVENT
DTSTAMP:20260421T121300
DTSTART;TZID=Europe/Berlin:20260220T110000
DTEND;TZID=Europe/Berlin:20260220T120000
UID:D-1208-20260220T110000@EBWDUISBURG
SUMMARY:Toben, Klettern, Singen  für Kinder von 1-3 Jahren mit Eltern (D-1208) 
LOCATION:Haus der Familie; Gymnastikraum, Hinter der Kirche 34, 47058 Duisburg
END:VEVENT
BEGIN:VEVENT
DTSTAMP:20260421T121300
DTSTART;TZID=Europe/Berlin:20260306T110000
DTEND;TZID=Europe/Berlin:20260306T120000
UID:D-1208-20260306T110000@EBWDUISBURG
SUMMARY:Toben, Klettern, Singen  für Kinder von 1-3 Jahren mit Eltern (D-1208) 
LOCATION:Haus der Familie; Gymnastikraum, Hinter der Kirche 34, 47058 Duisburg
END:VEVENT
BEGIN:VEVENT
DTSTAMP:20260421T121300
DTSTART;TZID=Europe/Berlin:20260313T110000
DTEND;TZID=Europe/Berlin:20260313T120000
UID:D-1208-20260313T110000@EBWDUISBURG
SUMMARY:Toben, Klettern, Singen  für Kinder von 1-3 Jahren mit Eltern (D-1208) 
LOCATION:Haus der Familie; Gymnastikraum, Hinter der Kirche 34, 47058 Duisburg
END:VEVENT
BEGIN:VEVENT
DTSTAMP:20260421T121300
DTSTART;TZID=Europe/Berlin:20260320T110000
DTEND;TZID=Europe/Berlin:20260320T120000
UID:D-1208-20260320T110000@EBWDUISBURG
SUMMARY:Toben, Klettern, Singen  für Kinder von 1-3 Jahren mit Eltern (D-1208) 
LOCATION:Haus der Familie; Gymnastikraum, Hinter der Kirche 34, 47058 Duisburg
END:VEVENT
BEGIN:VEVENT
DTSTAMP:20260421T121300
DTSTART;TZID=Europe/Berlin:20260327T110000
DTEND;TZID=Europe/Berlin:20260327T120000
UID:D-1208-20260327T110000@EBWDUISBURG
SUMMARY:Toben, Klettern, Singen  für Kinder von 1-3 Jahren mit Eltern (D-1208) 
LOCATION:Haus der Familie; Gymnastikraum, Hinter der Kirche 34, 47058 Duisburg
END:VEVENT
END:VCALENDAR