BEGIN:VCALENDAR
VERSION:2.0
PRODID:http://www.kufer.de/kuferweb / DE
METHOD:PUBLISH
CALSCALE:GREGORIAN
X-WR-TIMEZONE:Europe/Berlin
BEGIN:VTIMEZONE
TZID:Europe/Berlin
X-LIC-LOCATION:Europe/Berlin
BEGIN:DAYLIGHT
TZOFFSETFROM:+0100
TZOFFSETTO:+0200
TZNAME:CEST
DTSTART;TZID=Europe/Berlin:19700329T020000
RRULE:FREQ=YEARLY;INTERVAL=1;BYDAY=-1SU;BYMONTH=3
END:DAYLIGHT
BEGIN:STANDARD
TZOFFSETFROM:+0200
TZOFFSETTO:+0100
TZNAME:CET
DTSTART;TZID=Europe/Berlin:19701025T030000
RRULE:FREQ=YEARLY;INTERVAL=1;BYDAY=-1SU;BYMONTH=10
END:STANDARD
END:VTIMEZONE
BEGIN:VEVENT
DTSTAMP:20260421T121645
DTSTART;TZID=Europe/Berlin:20260115T164500
DTEND;TZID=Europe/Berlin:20260115T174500
UID:D-1206-20260115T164500@EBWDUISBURG
SUMMARY:Toben, Klettern, Singen  für Kinder von 1-3 Jahren mit Eltern (D-1206) 
LOCATION:Haus der Familie; Gymnastikraum, Hinter der Kirche 34, 47058 Duisburg
END:VEVENT
BEGIN:VEVENT
DTSTAMP:20260421T121645
DTSTART;TZID=Europe/Berlin:20260122T164500
DTEND;TZID=Europe/Berlin:20260122T174500
UID:D-1206-20260122T164500@EBWDUISBURG
SUMMARY:Toben, Klettern, Singen  für Kinder von 1-3 Jahren mit Eltern (D-1206) 
LOCATION:Haus der Familie; Gymnastikraum, Hinter der Kirche 34, 47058 Duisburg
END:VEVENT
BEGIN:VEVENT
DTSTAMP:20260421T121645
DTSTART;TZID=Europe/Berlin:20260129T164500
DTEND;TZID=Europe/Berlin:20260129T174500
UID:D-1206-20260129T164500@EBWDUISBURG
SUMMARY:Toben, Klettern, Singen  für Kinder von 1-3 Jahren mit Eltern (D-1206) 
LOCATION:Haus der Familie; Gymnastikraum, Hinter der Kirche 34, 47058 Duisburg
END:VEVENT
BEGIN:VEVENT
DTSTAMP:20260421T121645
DTSTART;TZID=Europe/Berlin:20260205T164500
DTEND;TZID=Europe/Berlin:20260205T174500
UID:D-1206-20260205T164500@EBWDUISBURG
SUMMARY:Toben, Klettern, Singen  für Kinder von 1-3 Jahren mit Eltern (D-1206) 
LOCATION:Haus der Familie; Gymnastikraum, Hinter der Kirche 34, 47058 Duisburg
END:VEVENT
BEGIN:VEVENT
DTSTAMP:20260421T121645
DTSTART;TZID=Europe/Berlin:20260212T164500
DTEND;TZID=Europe/Berlin:20260212T174500
UID:D-1206-20260212T164500@EBWDUISBURG
SUMMARY:Toben, Klettern, Singen  für Kinder von 1-3 Jahren mit Eltern (D-1206) 
LOCATION:Haus der Familie; Gymnastikraum, Hinter der Kirche 34, 47058 Duisburg
END:VEVENT
BEGIN:VEVENT
DTSTAMP:20260421T121645
DTSTART;TZID=Europe/Berlin:20260219T164500
DTEND;TZID=Europe/Berlin:20260219T174500
UID:D-1206-20260219T164500@EBWDUISBURG
SUMMARY:Toben, Klettern, Singen  für Kinder von 1-3 Jahren mit Eltern (D-1206) 
LOCATION:Haus der Familie; Gymnastikraum, Hinter der Kirche 34, 47058 Duisburg
END:VEVENT
BEGIN:VEVENT
DTSTAMP:20260421T121645
DTSTART;TZID=Europe/Berlin:20260226T164500
DTEND;TZID=Europe/Berlin:20260226T174500
UID:D-1206-20260226T164500@EBWDUISBURG
SUMMARY:Toben, Klettern, Singen  für Kinder von 1-3 Jahren mit Eltern (D-1206) 
LOCATION:Haus der Familie; Gymnastikraum, Hinter der Kirche 34, 47058 Duisburg
END:VEVENT
BEGIN:VEVENT
DTSTAMP:20260421T121645
DTSTART;TZID=Europe/Berlin:20260305T164500
DTEND;TZID=Europe/Berlin:20260305T174500
UID:D-1206-20260305T164500@EBWDUISBURG
SUMMARY:Toben, Klettern, Singen  für Kinder von 1-3 Jahren mit Eltern (D-1206) 
LOCATION:Haus der Familie; Gymnastikraum, Hinter der Kirche 34, 47058 Duisburg
END:VEVENT
BEGIN:VEVENT
DTSTAMP:20260421T121645
DTSTART;TZID=Europe/Berlin:20260312T164500
DTEND;TZID=Europe/Berlin:20260312T174500
UID:D-1206-20260312T164500@EBWDUISBURG
SUMMARY:Toben, Klettern, Singen  für Kinder von 1-3 Jahren mit Eltern (D-1206) 
LOCATION:Haus der Familie; Gymnastikraum, Hinter der Kirche 34, 47058 Duisburg
END:VEVENT
BEGIN:VEVENT
DTSTAMP:20260421T121645
DTSTART;TZID=Europe/Berlin:20260319T164500
DTEND;TZID=Europe/Berlin:20260319T174500
UID:D-1206-20260319T164500@EBWDUISBURG
SUMMARY:Toben, Klettern, Singen  für Kinder von 1-3 Jahren mit Eltern (D-1206) 
LOCATION:Haus der Familie; Gymnastikraum, Hinter der Kirche 34, 47058 Duisburg
END:VEVENT
BEGIN:VEVENT
DTSTAMP:20260421T121645
DTSTART;TZID=Europe/Berlin:20260326T164500
DTEND;TZID=Europe/Berlin:20260326T174500
UID:D-1206-20260326T164500@EBWDUISBURG
SUMMARY:Toben, Klettern, Singen  für Kinder von 1-3 Jahren mit Eltern (D-1206) 
LOCATION:Haus der Familie; Gymnastikraum, Hinter der Kirche 34, 47058 Duisburg
END:VEVENT
END:VCALENDAR