BEGIN:VCALENDAR
VERSION:2.0
PRODID:http://www.kufer.de/kuferweb / DE
METHOD:PUBLISH
CALSCALE:GREGORIAN
X-WR-TIMEZONE:Europe/Berlin
BEGIN:VTIMEZONE
TZID:Europe/Berlin
X-LIC-LOCATION:Europe/Berlin
BEGIN:DAYLIGHT
TZOFFSETFROM:+0100
TZOFFSETTO:+0200
TZNAME:CEST
DTSTART;TZID=Europe/Berlin:19700329T020000
RRULE:FREQ=YEARLY;INTERVAL=1;BYDAY=-1SU;BYMONTH=3
END:DAYLIGHT
BEGIN:STANDARD
TZOFFSETFROM:+0200
TZOFFSETTO:+0100
TZNAME:CET
DTSTART;TZID=Europe/Berlin:19701025T030000
RRULE:FREQ=YEARLY;INTERVAL=1;BYDAY=-1SU;BYMONTH=10
END:STANDARD
END:VTIMEZONE
BEGIN:VEVENT
DTSTAMP:20260421T150241
DTSTART;TZID=Europe/Berlin:20260115T153000
DTEND;TZID=Europe/Berlin:20260115T163000
UID:D-1205-20260115T153000@EBWDUISBURG
SUMMARY:Toben, Klettern, Singen für Kinder von 1-3 Jahren mit Eltern (D-1205) 
LOCATION:Haus der Familie; Gymnastikraum, Hinter der Kirche 34, 47058 Duisburg
END:VEVENT
BEGIN:VEVENT
DTSTAMP:20260421T150241
DTSTART;TZID=Europe/Berlin:20260122T153000
DTEND;TZID=Europe/Berlin:20260122T163000
UID:D-1205-20260122T153000@EBWDUISBURG
SUMMARY:Toben, Klettern, Singen für Kinder von 1-3 Jahren mit Eltern (D-1205) 
LOCATION:Haus der Familie; Gymnastikraum, Hinter der Kirche 34, 47058 Duisburg
END:VEVENT
BEGIN:VEVENT
DTSTAMP:20260421T150241
DTSTART;TZID=Europe/Berlin:20260129T153000
DTEND;TZID=Europe/Berlin:20260129T163000
UID:D-1205-20260129T153000@EBWDUISBURG
SUMMARY:Toben, Klettern, Singen für Kinder von 1-3 Jahren mit Eltern (D-1205) 
LOCATION:Haus der Familie; Gymnastikraum, Hinter der Kirche 34, 47058 Duisburg
END:VEVENT
BEGIN:VEVENT
DTSTAMP:20260421T150241
DTSTART;TZID=Europe/Berlin:20260205T153000
DTEND;TZID=Europe/Berlin:20260205T163000
UID:D-1205-20260205T153000@EBWDUISBURG
SUMMARY:Toben, Klettern, Singen für Kinder von 1-3 Jahren mit Eltern (D-1205) 
LOCATION:Haus der Familie; Gymnastikraum, Hinter der Kirche 34, 47058 Duisburg
END:VEVENT
BEGIN:VEVENT
DTSTAMP:20260421T150241
DTSTART;TZID=Europe/Berlin:20260212T153000
DTEND;TZID=Europe/Berlin:20260212T163000
UID:D-1205-20260212T153000@EBWDUISBURG
SUMMARY:Toben, Klettern, Singen für Kinder von 1-3 Jahren mit Eltern (D-1205) 
LOCATION:Haus der Familie; Gymnastikraum, Hinter der Kirche 34, 47058 Duisburg
END:VEVENT
BEGIN:VEVENT
DTSTAMP:20260421T150241
DTSTART;TZID=Europe/Berlin:20260219T153000
DTEND;TZID=Europe/Berlin:20260219T163000
UID:D-1205-20260219T153000@EBWDUISBURG
SUMMARY:Toben, Klettern, Singen für Kinder von 1-3 Jahren mit Eltern (D-1205) 
LOCATION:Haus der Familie; Gymnastikraum, Hinter der Kirche 34, 47058 Duisburg
END:VEVENT
BEGIN:VEVENT
DTSTAMP:20260421T150241
DTSTART;TZID=Europe/Berlin:20260226T153000
DTEND;TZID=Europe/Berlin:20260226T163000
UID:D-1205-20260226T153000@EBWDUISBURG
SUMMARY:Toben, Klettern, Singen für Kinder von 1-3 Jahren mit Eltern (D-1205) 
LOCATION:Haus der Familie; Gymnastikraum, Hinter der Kirche 34, 47058 Duisburg
END:VEVENT
BEGIN:VEVENT
DTSTAMP:20260421T150241
DTSTART;TZID=Europe/Berlin:20260305T153000
DTEND;TZID=Europe/Berlin:20260305T163000
UID:D-1205-20260305T153000@EBWDUISBURG
SUMMARY:Toben, Klettern, Singen für Kinder von 1-3 Jahren mit Eltern (D-1205) 
LOCATION:Haus der Familie; Gymnastikraum, Hinter der Kirche 34, 47058 Duisburg
END:VEVENT
BEGIN:VEVENT
DTSTAMP:20260421T150241
DTSTART;TZID=Europe/Berlin:20260312T153000
DTEND;TZID=Europe/Berlin:20260312T163000
UID:D-1205-20260312T153000@EBWDUISBURG
SUMMARY:Toben, Klettern, Singen für Kinder von 1-3 Jahren mit Eltern (D-1205) 
LOCATION:Haus der Familie; Gymnastikraum, Hinter der Kirche 34, 47058 Duisburg
END:VEVENT
BEGIN:VEVENT
DTSTAMP:20260421T150241
DTSTART;TZID=Europe/Berlin:20260319T153000
DTEND;TZID=Europe/Berlin:20260319T163000
UID:D-1205-20260319T153000@EBWDUISBURG
SUMMARY:Toben, Klettern, Singen für Kinder von 1-3 Jahren mit Eltern (D-1205) 
LOCATION:Haus der Familie; Gymnastikraum, Hinter der Kirche 34, 47058 Duisburg
END:VEVENT
BEGIN:VEVENT
DTSTAMP:20260421T150241
DTSTART;TZID=Europe/Berlin:20260326T153000
DTEND;TZID=Europe/Berlin:20260326T163000
UID:D-1205-20260326T153000@EBWDUISBURG
SUMMARY:Toben, Klettern, Singen für Kinder von 1-3 Jahren mit Eltern (D-1205) 
LOCATION:Haus der Familie; Gymnastikraum, Hinter der Kirche 34, 47058 Duisburg
END:VEVENT
END:VCALENDAR