BEGIN:VCALENDAR
VERSION:2.0
PRODID:http://www.kufer.de/kuferweb / DE
METHOD:PUBLISH
CALSCALE:GREGORIAN
X-WR-TIMEZONE:Europe/Berlin
BEGIN:VTIMEZONE
TZID:Europe/Berlin
X-LIC-LOCATION:Europe/Berlin
BEGIN:DAYLIGHT
TZOFFSETFROM:+0100
TZOFFSETTO:+0200
TZNAME:CEST
DTSTART;TZID=Europe/Berlin:19700329T020000
RRULE:FREQ=YEARLY;INTERVAL=1;BYDAY=-1SU;BYMONTH=3
END:DAYLIGHT
BEGIN:STANDARD
TZOFFSETFROM:+0200
TZOFFSETTO:+0100
TZNAME:CET
DTSTART;TZID=Europe/Berlin:19701025T030000
RRULE:FREQ=YEARLY;INTERVAL=1;BYDAY=-1SU;BYMONTH=10
END:STANDARD
END:VTIMEZONE
BEGIN:VEVENT
DTSTAMP:20260421T104840
DTSTART;TZID=Europe/Berlin:20260113T110000
DTEND;TZID=Europe/Berlin:20260113T120000
UID:D-1202-20260113T110000@EBWDUISBURG
SUMMARY:Toben, Klettern, Singen  für Kinder von 1-3 Jahren mit Eltern (D-1202) 
LOCATION:Haus der Familie; Gymnastikraum, Hinter der Kirche 34, 47058 Duisburg
END:VEVENT
BEGIN:VEVENT
DTSTAMP:20260421T104840
DTSTART;TZID=Europe/Berlin:20260120T110000
DTEND;TZID=Europe/Berlin:20260120T120000
UID:D-1202-20260120T110000@EBWDUISBURG
SUMMARY:Toben, Klettern, Singen  für Kinder von 1-3 Jahren mit Eltern (D-1202) 
LOCATION:Haus der Familie; Gymnastikraum, Hinter der Kirche 34, 47058 Duisburg
END:VEVENT
BEGIN:VEVENT
DTSTAMP:20260421T104840
DTSTART;TZID=Europe/Berlin:20260127T110000
DTEND;TZID=Europe/Berlin:20260127T120000
UID:D-1202-20260127T110000@EBWDUISBURG
SUMMARY:Toben, Klettern, Singen  für Kinder von 1-3 Jahren mit Eltern (D-1202) 
LOCATION:Haus der Familie; Gymnastikraum, Hinter der Kirche 34, 47058 Duisburg
END:VEVENT
BEGIN:VEVENT
DTSTAMP:20260421T104840
DTSTART;TZID=Europe/Berlin:20260203T110000
DTEND;TZID=Europe/Berlin:20260203T120000
UID:D-1202-20260203T110000@EBWDUISBURG
SUMMARY:Toben, Klettern, Singen  für Kinder von 1-3 Jahren mit Eltern (D-1202) 
LOCATION:Haus der Familie; Gymnastikraum, Hinter der Kirche 34, 47058 Duisburg
END:VEVENT
BEGIN:VEVENT
DTSTAMP:20260421T104840
DTSTART;TZID=Europe/Berlin:20260210T110000
DTEND;TZID=Europe/Berlin:20260210T120000
UID:D-1202-20260210T110000@EBWDUISBURG
SUMMARY:Toben, Klettern, Singen  für Kinder von 1-3 Jahren mit Eltern (D-1202) 
LOCATION:Haus der Familie; Gymnastikraum, Hinter der Kirche 34, 47058 Duisburg
END:VEVENT
BEGIN:VEVENT
DTSTAMP:20260421T104840
DTSTART;TZID=Europe/Berlin:20260217T110000
DTEND;TZID=Europe/Berlin:20260217T120000
UID:D-1202-20260217T110000@EBWDUISBURG
SUMMARY:Toben, Klettern, Singen  für Kinder von 1-3 Jahren mit Eltern (D-1202) 
LOCATION:Haus der Familie; Gymnastikraum, Hinter der Kirche 34, 47058 Duisburg
END:VEVENT
BEGIN:VEVENT
DTSTAMP:20260421T104840
DTSTART;TZID=Europe/Berlin:20260303T110000
DTEND;TZID=Europe/Berlin:20260303T120000
UID:D-1202-20260303T110000@EBWDUISBURG
SUMMARY:Toben, Klettern, Singen  für Kinder von 1-3 Jahren mit Eltern (D-1202) 
LOCATION:Haus der Familie; Gymnastikraum, Hinter der Kirche 34, 47058 Duisburg
END:VEVENT
BEGIN:VEVENT
DTSTAMP:20260421T104840
DTSTART;TZID=Europe/Berlin:20260310T110000
DTEND;TZID=Europe/Berlin:20260310T120000
UID:D-1202-20260310T110000@EBWDUISBURG
SUMMARY:Toben, Klettern, Singen  für Kinder von 1-3 Jahren mit Eltern (D-1202) 
LOCATION:Haus der Familie; Gymnastikraum, Hinter der Kirche 34, 47058 Duisburg
END:VEVENT
BEGIN:VEVENT
DTSTAMP:20260421T104840
DTSTART;TZID=Europe/Berlin:20260317T110000
DTEND;TZID=Europe/Berlin:20260317T120000
UID:D-1202-20260317T110000@EBWDUISBURG
SUMMARY:Toben, Klettern, Singen  für Kinder von 1-3 Jahren mit Eltern (D-1202) 
LOCATION:Haus der Familie; Gymnastikraum, Hinter der Kirche 34, 47058 Duisburg
END:VEVENT
BEGIN:VEVENT
DTSTAMP:20260421T104840
DTSTART;TZID=Europe/Berlin:20260324T110000
DTEND;TZID=Europe/Berlin:20260324T120000
UID:D-1202-20260324T110000@EBWDUISBURG
SUMMARY:Toben, Klettern, Singen  für Kinder von 1-3 Jahren mit Eltern (D-1202) 
LOCATION:Haus der Familie; Gymnastikraum, Hinter der Kirche 34, 47058 Duisburg
END:VEVENT
END:VCALENDAR