BEGIN:VCALENDAR
VERSION:2.0
PRODID:http://www.kufer.de/kuferweb / DE
METHOD:PUBLISH
CALSCALE:GREGORIAN
X-WR-TIMEZONE:Europe/Berlin
BEGIN:VTIMEZONE
TZID:Europe/Berlin
X-LIC-LOCATION:Europe/Berlin
BEGIN:DAYLIGHT
TZOFFSETFROM:+0100
TZOFFSETTO:+0200
TZNAME:CEST
DTSTART;TZID=Europe/Berlin:19700329T020000
RRULE:FREQ=YEARLY;INTERVAL=1;BYDAY=-1SU;BYMONTH=3
END:DAYLIGHT
BEGIN:STANDARD
TZOFFSETFROM:+0200
TZOFFSETTO:+0100
TZNAME:CET
DTSTART;TZID=Europe/Berlin:19701025T030000
RRULE:FREQ=YEARLY;INTERVAL=1;BYDAY=-1SU;BYMONTH=10
END:STANDARD
END:VTIMEZONE
BEGIN:VEVENT
DTSTAMP:20260421T104833
DTSTART;TZID=Europe/Berlin:20260113T091500
DTEND;TZID=Europe/Berlin:20260113T104500
UID:D-1201-20260113T091500@EBWDUISBURG
SUMMARY:Toben, Klettern, Singen  für Kinder von 1-3 Jahren mit Eltern (D-1201) 
LOCATION:Haus der Familie; Gymnastikraum, Hinter der Kirche 34, 47058 Duisburg
END:VEVENT
BEGIN:VEVENT
DTSTAMP:20260421T104833
DTSTART;TZID=Europe/Berlin:20260120T091500
DTEND;TZID=Europe/Berlin:20260120T104500
UID:D-1201-20260120T091500@EBWDUISBURG
SUMMARY:Toben, Klettern, Singen  für Kinder von 1-3 Jahren mit Eltern (D-1201) 
LOCATION:Haus der Familie; Gymnastikraum, Hinter der Kirche 34, 47058 Duisburg
END:VEVENT
BEGIN:VEVENT
DTSTAMP:20260421T104833
DTSTART;TZID=Europe/Berlin:20260127T091500
DTEND;TZID=Europe/Berlin:20260127T104500
UID:D-1201-20260127T091500@EBWDUISBURG
SUMMARY:Toben, Klettern, Singen  für Kinder von 1-3 Jahren mit Eltern (D-1201) 
LOCATION:Haus der Familie; Gymnastikraum, Hinter der Kirche 34, 47058 Duisburg
END:VEVENT
BEGIN:VEVENT
DTSTAMP:20260421T104833
DTSTART;TZID=Europe/Berlin:20260203T091500
DTEND;TZID=Europe/Berlin:20260203T104500
UID:D-1201-20260203T091500@EBWDUISBURG
SUMMARY:Toben, Klettern, Singen  für Kinder von 1-3 Jahren mit Eltern (D-1201) 
LOCATION:Haus der Familie; Gymnastikraum, Hinter der Kirche 34, 47058 Duisburg
END:VEVENT
BEGIN:VEVENT
DTSTAMP:20260421T104833
DTSTART;TZID=Europe/Berlin:20260210T091500
DTEND;TZID=Europe/Berlin:20260210T104500
UID:D-1201-20260210T091500@EBWDUISBURG
SUMMARY:Toben, Klettern, Singen  für Kinder von 1-3 Jahren mit Eltern (D-1201) 
LOCATION:Haus der Familie; Gymnastikraum, Hinter der Kirche 34, 47058 Duisburg
END:VEVENT
BEGIN:VEVENT
DTSTAMP:20260421T104833
DTSTART;TZID=Europe/Berlin:20260217T091500
DTEND;TZID=Europe/Berlin:20260217T104500
UID:D-1201-20260217T091500@EBWDUISBURG
SUMMARY:Toben, Klettern, Singen  für Kinder von 1-3 Jahren mit Eltern (D-1201) 
LOCATION:Haus der Familie; Gymnastikraum, Hinter der Kirche 34, 47058 Duisburg
END:VEVENT
BEGIN:VEVENT
DTSTAMP:20260421T104833
DTSTART;TZID=Europe/Berlin:20260303T091500
DTEND;TZID=Europe/Berlin:20260303T104500
UID:D-1201-20260303T091500@EBWDUISBURG
SUMMARY:Toben, Klettern, Singen  für Kinder von 1-3 Jahren mit Eltern (D-1201) 
LOCATION:Haus der Familie; Gymnastikraum, Hinter der Kirche 34, 47058 Duisburg
END:VEVENT
BEGIN:VEVENT
DTSTAMP:20260421T104833
DTSTART;TZID=Europe/Berlin:20260310T091500
DTEND;TZID=Europe/Berlin:20260310T104500
UID:D-1201-20260310T091500@EBWDUISBURG
SUMMARY:Toben, Klettern, Singen  für Kinder von 1-3 Jahren mit Eltern (D-1201) 
LOCATION:Haus der Familie; Gymnastikraum, Hinter der Kirche 34, 47058 Duisburg
END:VEVENT
BEGIN:VEVENT
DTSTAMP:20260421T104833
DTSTART;TZID=Europe/Berlin:20260317T091500
DTEND;TZID=Europe/Berlin:20260317T104500
UID:D-1201-20260317T091500@EBWDUISBURG
SUMMARY:Toben, Klettern, Singen  für Kinder von 1-3 Jahren mit Eltern (D-1201) 
LOCATION:Haus der Familie; Gymnastikraum, Hinter der Kirche 34, 47058 Duisburg
END:VEVENT
BEGIN:VEVENT
DTSTAMP:20260421T104833
DTSTART;TZID=Europe/Berlin:20260324T091500
DTEND;TZID=Europe/Berlin:20260324T104500
UID:D-1201-20260324T091500@EBWDUISBURG
SUMMARY:Toben, Klettern, Singen  für Kinder von 1-3 Jahren mit Eltern (D-1201) 
LOCATION:Haus der Familie; Gymnastikraum, Hinter der Kirche 34, 47058 Duisburg
END:VEVENT
END:VCALENDAR