BEGIN:VCALENDAR
VERSION:2.0
PRODID:http://www.kufer.de/kuferweb / DE
METHOD:PUBLISH
CALSCALE:GREGORIAN
X-WR-TIMEZONE:Europe/Berlin
BEGIN:VTIMEZONE
TZID:Europe/Berlin
X-LIC-LOCATION:Europe/Berlin
BEGIN:DAYLIGHT
TZOFFSETFROM:+0100
TZOFFSETTO:+0200
TZNAME:CEST
DTSTART;TZID=Europe/Berlin:19700329T020000
RRULE:FREQ=YEARLY;INTERVAL=1;BYDAY=-1SU;BYMONTH=3
END:DAYLIGHT
BEGIN:STANDARD
TZOFFSETFROM:+0200
TZOFFSETTO:+0100
TZNAME:CET
DTSTART;TZID=Europe/Berlin:19701025T030000
RRULE:FREQ=YEARLY;INTERVAL=1;BYDAY=-1SU;BYMONTH=10
END:STANDARD
END:VTIMEZONE
BEGIN:VEVENT
DTSTAMP:20260421T104013
DTSTART;TZID=Europe/Berlin:20260902T083000
DTEND;TZID=Europe/Berlin:20260902T123000
UID:26I-7208/2-20260902T083000@EBWDUISBURG
SUMMARY:Integrationskurs Modul 2 (26I-7208/2) 
LOCATION:Martinstr. 35b; Jugendcafe-Duissern, Martinstr. 35b, 47058 Duisburg
END:VEVENT
BEGIN:VEVENT
DTSTAMP:20260421T104013
DTSTART;TZID=Europe/Berlin:20260903T083000
DTEND;TZID=Europe/Berlin:20260903T123000
UID:26I-7208/2-20260903T083000@EBWDUISBURG
SUMMARY:Integrationskurs Modul 2 (26I-7208/2) 
LOCATION:Martinstr. 35b; Jugendcafe-Duissern, Martinstr. 35b, 47058 Duisburg
END:VEVENT
BEGIN:VEVENT
DTSTAMP:20260421T104013
DTSTART;TZID=Europe/Berlin:20260904T083000
DTEND;TZID=Europe/Berlin:20260904T123000
UID:26I-7208/2-20260904T083000@EBWDUISBURG
SUMMARY:Integrationskurs Modul 2 (26I-7208/2) 
LOCATION:Martinstr. 35b; Jugendcafe-Duissern, Martinstr. 35b, 47058 Duisburg
END:VEVENT
BEGIN:VEVENT
DTSTAMP:20260421T104013
DTSTART;TZID=Europe/Berlin:20260907T083000
DTEND;TZID=Europe/Berlin:20260907T123000
UID:26I-7208/2-20260907T083000@EBWDUISBURG
SUMMARY:Integrationskurs Modul 2 (26I-7208/2) 
LOCATION:Martinstr. 35b; Jugendcafe-Duissern, Martinstr. 35b, 47058 Duisburg
END:VEVENT
BEGIN:VEVENT
DTSTAMP:20260421T104013
DTSTART;TZID=Europe/Berlin:20260908T083000
DTEND;TZID=Europe/Berlin:20260908T123000
UID:26I-7208/2-20260908T083000@EBWDUISBURG
SUMMARY:Integrationskurs Modul 2 (26I-7208/2) 
LOCATION:Martinstr. 35b; Jugendcafe-Duissern, Martinstr. 35b, 47058 Duisburg
END:VEVENT
BEGIN:VEVENT
DTSTAMP:20260421T104013
DTSTART;TZID=Europe/Berlin:20260910T083000
DTEND;TZID=Europe/Berlin:20260910T123000
UID:26I-7208/2-20260910T083000@EBWDUISBURG
SUMMARY:Integrationskurs Modul 2 (26I-7208/2) 
LOCATION:Martinstr. 35b; Jugendcafe-Duissern, Martinstr. 35b, 47058 Duisburg
END:VEVENT
BEGIN:VEVENT
DTSTAMP:20260421T104013
DTSTART;TZID=Europe/Berlin:20260911T083000
DTEND;TZID=Europe/Berlin:20260911T123000
UID:26I-7208/2-20260911T083000@EBWDUISBURG
SUMMARY:Integrationskurs Modul 2 (26I-7208/2) 
LOCATION:Martinstr. 35b; Jugendcafe-Duissern, Martinstr. 35b, 47058 Duisburg
END:VEVENT
BEGIN:VEVENT
DTSTAMP:20260421T104013
DTSTART;TZID=Europe/Berlin:20260914T083000
DTEND;TZID=Europe/Berlin:20260914T123000
UID:26I-7208/2-20260914T083000@EBWDUISBURG
SUMMARY:Integrationskurs Modul 2 (26I-7208/2) 
LOCATION:Martinstr. 35b; Jugendcafe-Duissern, Martinstr. 35b, 47058 Duisburg
END:VEVENT
BEGIN:VEVENT
DTSTAMP:20260421T104013
DTSTART;TZID=Europe/Berlin:20260915T083000
DTEND;TZID=Europe/Berlin:20260915T123000
UID:26I-7208/2-20260915T083000@EBWDUISBURG
SUMMARY:Integrationskurs Modul 2 (26I-7208/2) 
LOCATION:Martinstr. 35b; Jugendcafe-Duissern, Martinstr. 35b, 47058 Duisburg
END:VEVENT
BEGIN:VEVENT
DTSTAMP:20260421T104013
DTSTART;TZID=Europe/Berlin:20260917T083000
DTEND;TZID=Europe/Berlin:20260917T123000
UID:26I-7208/2-20260917T083000@EBWDUISBURG
SUMMARY:Integrationskurs Modul 2 (26I-7208/2) 
LOCATION:Martinstr. 35b; Jugendcafe-Duissern, Martinstr. 35b, 47058 Duisburg
END:VEVENT
BEGIN:VEVENT
DTSTAMP:20260421T104013
DTSTART;TZID=Europe/Berlin:20260918T083000
DTEND;TZID=Europe/Berlin:20260918T123000
UID:26I-7208/2-20260918T083000@EBWDUISBURG
SUMMARY:Integrationskurs Modul 2 (26I-7208/2) 
LOCATION:Martinstr. 35b; Jugendcafe-Duissern, Martinstr. 35b, 47058 Duisburg
END:VEVENT
BEGIN:VEVENT
DTSTAMP:20260421T104013
DTSTART;TZID=Europe/Berlin:20260921T083000
DTEND;TZID=Europe/Berlin:20260921T123000
UID:26I-7208/2-20260921T083000@EBWDUISBURG
SUMMARY:Integrationskurs Modul 2 (26I-7208/2) 
LOCATION:Martinstr. 35b; Jugendcafe-Duissern, Martinstr. 35b, 47058 Duisburg
END:VEVENT
BEGIN:VEVENT
DTSTAMP:20260421T104013
DTSTART;TZID=Europe/Berlin:20260922T083000
DTEND;TZID=Europe/Berlin:20260922T123000
UID:26I-7208/2-20260922T083000@EBWDUISBURG
SUMMARY:Integrationskurs Modul 2 (26I-7208/2) 
LOCATION:Martinstr. 35b; Jugendcafe-Duissern, Martinstr. 35b, 47058 Duisburg
END:VEVENT
BEGIN:VEVENT
DTSTAMP:20260421T104013
DTSTART;TZID=Europe/Berlin:20260924T083000
DTEND;TZID=Europe/Berlin:20260924T123000
UID:26I-7208/2-20260924T083000@EBWDUISBURG
SUMMARY:Integrationskurs Modul 2 (26I-7208/2) 
LOCATION:Martinstr. 35b; Jugendcafe-Duissern, Martinstr. 35b, 47058 Duisburg
END:VEVENT
BEGIN:VEVENT
DTSTAMP:20260421T104013
DTSTART;TZID=Europe/Berlin:20260925T083000
DTEND;TZID=Europe/Berlin:20260925T123000
UID:26I-7208/2-20260925T083000@EBWDUISBURG
SUMMARY:Integrationskurs Modul 2 (26I-7208/2) 
LOCATION:Martinstr. 35b; Jugendcafe-Duissern, Martinstr. 35b, 47058 Duisburg
END:VEVENT
BEGIN:VEVENT
DTSTAMP:20260421T104013
DTSTART;TZID=Europe/Berlin:20260928T083000
DTEND;TZID=Europe/Berlin:20260928T123000
UID:26I-7208/2-20260928T083000@EBWDUISBURG
SUMMARY:Integrationskurs Modul 2 (26I-7208/2) 
LOCATION:Martinstr. 35b; Jugendcafe-Duissern, Martinstr. 35b, 47058 Duisburg
END:VEVENT
BEGIN:VEVENT
DTSTAMP:20260421T104013
DTSTART;TZID=Europe/Berlin:20260929T083000
DTEND;TZID=Europe/Berlin:20260929T123000
UID:26I-7208/2-20260929T083000@EBWDUISBURG
SUMMARY:Integrationskurs Modul 2 (26I-7208/2) 
LOCATION:Martinstr. 35b; Jugendcafe-Duissern, Martinstr. 35b, 47058 Duisburg
END:VEVENT
BEGIN:VEVENT
DTSTAMP:20260421T104013
DTSTART;TZID=Europe/Berlin:20261001T083000
DTEND;TZID=Europe/Berlin:20261001T123000
UID:26I-7208/2-20261001T083000@EBWDUISBURG
SUMMARY:Integrationskurs Modul 2 (26I-7208/2) 
LOCATION:Martinstr. 35b; Jugendcafe-Duissern, Martinstr. 35b, 47058 Duisburg
END:VEVENT
BEGIN:VEVENT
DTSTAMP:20260421T104013
DTSTART;TZID=Europe/Berlin:20261002T083000
DTEND;TZID=Europe/Berlin:20261002T123000
UID:26I-7208/2-20261002T083000@EBWDUISBURG
SUMMARY:Integrationskurs Modul 2 (26I-7208/2) 
LOCATION:Martinstr. 35b; Jugendcafe-Duissern, Martinstr. 35b, 47058 Duisburg
END:VEVENT
BEGIN:VEVENT
DTSTAMP:20260421T104013
DTSTART;TZID=Europe/Berlin:20261005T083000
DTEND;TZID=Europe/Berlin:20261005T123000
UID:26I-7208/2-20261005T083000@EBWDUISBURG
SUMMARY:Integrationskurs Modul 2 (26I-7208/2) 
LOCATION:Martinstr. 35b; Jugendcafe-Duissern, Martinstr. 35b, 47058 Duisburg
END:VEVENT
END:VCALENDAR